BEGIN:VCALENDAR
VERSION:2.0
PRODID:-//Aula de psicodrama - ECPv5.6.0//NONSGML v1.0//EN
CALSCALE:GREGORIAN
METHOD:PUBLISH
X-WR-CALNAME:Aula de psicodrama
X-ORIGINAL-URL:https://auladepsicodrama.com
X-WR-CALDESC:Eventos para Aula de psicodrama
BEGIN:VTIMEZONE
TZID:UTC
BEGIN:STANDARD
TZOFFSETFROM:+0000
TZOFFSETTO:+0000
TZNAME:UTC
DTSTART:20180101T000000
END:STANDARD
END:VTIMEZONE
BEGIN:VEVENT
DTSTART;VALUE=DATE:20181027
DTEND;VALUE=DATE:20181028
DTSTAMP:20260420T103358
CREATED:20181008T050533Z
LAST-MODIFIED:20181008T054616Z
UID:1791-1540598400-1540684799@auladepsicodrama.com
SUMMARY:Taller intensivo de psicodrama freudiano
DESCRIPTION:
URL:https://auladepsicodrama.com/event/taller-intensivo-de-psicodrama-freudiano-3
LOCATION:Trasparaula\, C/ Pintor Lorenzo Casanova 5 - 4º D\, Alicante\, Alicante\, 03003\, España
CATEGORIES:Intensivos psicodrama,Talleres
ATTACH;FMTTYPE=image/jpeg:https://auladepsicodrama.com/wp-content/uploads/2018/10/Taller-psicodrama.-web.jpg
ORGANIZER;CN="Trasparaula":MAILTO:trasparaula@trasparaula.com
END:VEVENT
END:VCALENDAR