BEGIN:VCALENDAR
VERSION:2.0
PRODID:-//Aula de psicodrama - ECPv5.6.0//NONSGML v1.0//EN
CALSCALE:GREGORIAN
METHOD:PUBLISH
X-WR-CALNAME:Aula de psicodrama
X-ORIGINAL-URL:https://auladepsicodrama.com
X-WR-CALDESC:Eventos para Aula de psicodrama
BEGIN:VTIMEZONE
TZID:UTC
BEGIN:STANDARD
TZOFFSETFROM:+0000
TZOFFSETTO:+0000
TZNAME:UTC
DTSTART:20160101T000000
END:STANDARD
END:VTIMEZONE
BEGIN:VEVENT
DTSTART;TZID=UTC:20160130T100000
DTEND;TZID=UTC:20160130T200000
DTSTAMP:20260422T082011
CREATED:20150925T201105Z
LAST-MODIFIED:20151005T133503Z
UID:424-1454148000-1454184000@auladepsicodrama.com
SUMMARY:Mapa fantasmático corporal (Alicante).
DESCRIPTION:Coordinan: Paqui Alcaraz y Luz Agudelo.
URL:https://auladepsicodrama.com/event/mapa-fantasmatico-corporal
LOCATION:Trasparaula\, C/ Pintor Lorenzo Casanova 5 - 4º D\, Alicante\, Alicante\, 03003\, España
CATEGORIES:Intensivos psicodrama,Talleres
ORGANIZER;CN="Trasparaula":MAILTO:trasparaula@trasparaula.com
END:VEVENT
END:VCALENDAR