BEGIN:VCALENDAR
VERSION:2.0
PRODID:-//Aula de psicodrama - ECPv5.6.0//NONSGML v1.0//EN
CALSCALE:GREGORIAN
METHOD:PUBLISH
X-WR-CALNAME:Aula de psicodrama
X-ORIGINAL-URL:https://auladepsicodrama.com
X-WR-CALDESC:Eventos para Aula de psicodrama
BEGIN:VTIMEZONE
TZID:UTC
BEGIN:STANDARD
TZOFFSETFROM:+0000
TZOFFSETTO:+0000
TZNAME:UTC
DTSTART:20180101T000000
END:STANDARD
END:VTIMEZONE
BEGIN:VEVENT
DTSTART;TZID=UTC:20181124T100000
DTEND;TZID=UTC:20181124T140000
DTSTAMP:20260424T083754
CREATED:20181031T043221Z
LAST-MODIFIED:20181031T175007Z
UID:1840-1543053600-1543068000@auladepsicodrama.com
SUMMARY:Jornada de puertas abiertas de Aula de Psicodrama
DESCRIPTION:
URL:https://auladepsicodrama.com/event/jornada-de-puertas-abiertas-de-aula-de-psicodrama
LOCATION:IES «La flota».\, Paseo científico Gabriel Ciscar 1\, Murcia\, Murcia\, España
ATTACH;FMTTYPE=image/jpeg:https://auladepsicodrama.com/wp-content/uploads/2018/10/Cartel-jornadas-definitivo-min.jpg
ORGANIZER;CN="Aula%20de%20psicodrama":MAILTO:auladepsicodrama@gmail.com
END:VEVENT
END:VCALENDAR