BEGIN:VCALENDAR
VERSION:2.0
PRODID:-//Aula de psicodrama - ECPv5.6.0//NONSGML v1.0//EN
CALSCALE:GREGORIAN
METHOD:PUBLISH
X-WR-CALNAME:Aula de psicodrama
X-ORIGINAL-URL:https://auladepsicodrama.com
X-WR-CALDESC:Eventos para Aula de psicodrama
BEGIN:VTIMEZONE
TZID:UTC
BEGIN:STANDARD
TZOFFSETFROM:+0000
TZOFFSETTO:+0000
TZNAME:UTC
DTSTART:20160101T000000
END:STANDARD
END:VTIMEZONE
BEGIN:VEVENT
DTSTART;TZID=UTC:20160220T100000
DTEND;TZID=UTC:20160220T200000
DTSTAMP:20260420T014014
CREATED:20160129T062244Z
LAST-MODIFIED:20160129T062310Z
UID:1224-1455962400-1455998400@auladepsicodrama.com
SUMMARY:Grupo de psicodrama intensivo
DESCRIPTION:Sábado 20 de Febrero del 2016. \nTrasparaula. Centro de psicoterapia y formación. \nDe 10 a 20 horas. \nCoordinan Reme Padilla y Enrique Cortés. \nPara más información e inscripciones: 600622244
URL:https://auladepsicodrama.com/event/grupo-de-psicodrama-intensivo
LOCATION:Trasparaula\, C/ Pintor Lorenzo Casanova 5 - 4º D\, Alicante\, Alicante\, 03003\, España
CATEGORIES:Intensivos psicodrama
ATTACH;FMTTYPE=image/jpeg:https://auladepsicodrama.com/wp-content/uploads/2016/01/Sintítulohhhhhhhhhhhhhhhhhhhhh.jpg
ORGANIZER;CN="Aula%20de%20psicodrama":MAILTO:auladepsicodrama@gmail.com
END:VEVENT
END:VCALENDAR