BEGIN:VCALENDAR
VERSION:2.0
PRODID:-//Aula de psicodrama - ECPv5.6.0//NONSGML v1.0//EN
CALSCALE:GREGORIAN
METHOD:PUBLISH
X-WR-CALNAME:Aula de psicodrama
X-ORIGINAL-URL:https://auladepsicodrama.com
X-WR-CALDESC:Eventos para Aula de psicodrama
BEGIN:VTIMEZONE
TZID:UTC
BEGIN:STANDARD
TZOFFSETFROM:+0000
TZOFFSETTO:+0000
TZNAME:UTC
DTSTART:20150101T000000
END:STANDARD
END:VTIMEZONE
BEGIN:VEVENT
DTSTART;TZID=UTC:20151023T160000
DTEND;TZID=UTC:20151025T140000
DTSTAMP:20260422T082737
CREATED:20150924T124727Z
LAST-MODIFIED:20150924T124727Z
UID:349-1445616000-1445781600@auladepsicodrama.com
SUMMARY:Congreso Pontevedra "Psicodrama y conciencia"
DESCRIPTION:Se celebra la XXX reunión de la asociación española de psicodrama (AEP). Esta vez en Pontevedra y con el título de «Psicodrama y conciencia».
URL:https://auladepsicodrama.com/event/congreso-pontevedra-psicodrama-y-conciencia
LOCATION:Pontevedra\, Pontevedra\, Galicia\, España
ATTACH;FMTTYPE=image/jpeg:https://auladepsicodrama.com/wp-content/uploads/2015/09/cartel_2015.reunion_xxx.jpg
END:VEVENT
END:VCALENDAR