BEGIN:VCALENDAR
VERSION:2.0
PRODID:-//Aula de psicodrama - ECPv5.6.0//NONSGML v1.0//EN
CALSCALE:GREGORIAN
METHOD:PUBLISH
X-WR-CALNAME:Aula de psicodrama
X-ORIGINAL-URL:https://auladepsicodrama.com
X-WR-CALDESC:Eventos para Aula de psicodrama
BEGIN:VTIMEZONE
TZID:UTC
BEGIN:STANDARD
TZOFFSETFROM:+0000
TZOFFSETTO:+0000
TZNAME:UTC
DTSTART:20150101T000000
END:STANDARD
END:VTIMEZONE
BEGIN:VEVENT
DTSTART;TZID=UTC:20151009T203000
DTEND;TZID=UTC:20151009T203000
DTSTAMP:20260424T082545
CREATED:20150924T120302Z
LAST-MODIFIED:20150924T120302Z
UID:341-1444422600-1444422600@auladepsicodrama.com
SUMMARY:Comienza el seminario "El placer de leer a Freud" en Murcia
DESCRIPTION:El día 2 de Octubre dará comienzo en Alicante el nuevo seminario que Aula de Psicodrama ha preparado y que tendrá como objetivo realizar un recorrido por la obra freudiana desde sus inicios hasta sus últimos textos. El recorrido cronológico nos permitirá asistir a cómo se han ido construyendo y desarrollando los conceptos a lo largo de la obra freudiana\, lo que sin duda será de enorme valor para su comprensión contextual y evolutiva. \nPretendemos que leer a Freud sea un placer\, así que tomaremos tiempo para ir despacito\, dedicando cada año a la lectura de unos textos… sin prisa… \nPara los encuentros de éste año nos hemos planteado los siguientes (en negrita los textos que se abordarán en el primer encuentro). \nA)   Freud pre-psicoanalítico (1886-1899)\n\nPrólogo a la traducción de J. M. Charcot (1886).\nHisteria (1888).\nTratamiento psíquico (tratamiento del alma) (1890).\nHipnosis (1891).\nUn caso de curación por hipnosis (1892).\nEstudios sobre la histeria (1893-95).\nCharcot\, (1893).\nSobre el mecanismo psíquico de fenómenos histéricos (1893).\nLas neuropsicosis de defensa (1894).\nNuevas observaciones sobre la neuropsicosis de defensa (1896)\nObsesiones y fóbis (1894)\nNeurastenia y neurosis de angustia (1894)\nA propósito de las críticas a la “neurosis de angustia” (1895).\nLa etiología de la histeria (1896).\nLa sexualidad en la etiología de las neurosis (1898).\nSobre los recuerdos encubridores (1898) \n\nB-. Primer Freud psicoanalítico (1900-1915).\n\nLos sueños ( 1900)\nPsicopatologia de la vida cotidina
URL:https://auladepsicodrama.com/event/comienza-el-seminario-el-placer-de-leer-a-freud-en-murcia
LOCATION:Origen\, C/ Cronista Diego Rodriguez de Almela\, Nº6 – 5º A.\, Murcia\, Murcia\, España
ORGANIZER;CN="Aula%20de%20psicodrama":MAILTO:auladepsicodrama@gmail.com
END:VEVENT
END:VCALENDAR