BEGIN:VCALENDAR
VERSION:2.0
PRODID:-//Aula de psicodrama - ECPv5.6.0//NONSGML v1.0//EN
CALSCALE:GREGORIAN
METHOD:PUBLISH
X-WR-CALNAME:Aula de psicodrama
X-ORIGINAL-URL:https://auladepsicodrama.com
X-WR-CALDESC:Eventos para Aula de psicodrama
BEGIN:VTIMEZONE
TZID:UTC
BEGIN:STANDARD
TZOFFSETFROM:+0000
TZOFFSETTO:+0000
TZNAME:UTC
DTSTART:20150101T000000
END:STANDARD
END:VTIMEZONE
BEGIN:VEVENT
DTSTART;TZID=UTC:20151016T170000
DTEND;TZID=UTC:20151016T200000
DTSTAMP:20260422T081548
CREATED:20150924T121145Z
LAST-MODIFIED:20151005T133238Z
UID:343-1445014800-1445025600@auladepsicodrama.com
SUMMARY:Cinefórum: "Nuevas familias" (Alicante)
DESCRIPTION:Película: «Secretos y mentiras»\nModerada por Paqui Alcaraz.\nDe inicio nos encontramos ante una imagen de familia que no es un modelo prototípico. Se trata de una historia transitada por personajes entrañables  sumergidos en la vida cotidiana de una familia inglesa de clase baja\, disfuncional; personajes que esconden profundas heridas. Alguien aparece en la vida de un golpeado y tambaleante grupo familiar\, cautivo de los secretos y mentiras aludidos en el título. \nDe 17 a 20 h. Reservar plaza en el 610123919
URL:https://auladepsicodrama.com/event/cineforum-nuevas-familias
LOCATION:Trasparaula\, C/ Pintor Lorenzo Casanova 5 - 4º D\, Alicante\, Alicante\, 03003\, España
CATEGORIES:cineforum
ATTACH;FMTTYPE=image/jpeg:https://auladepsicodrama.com/wp-content/uploads/2015/09/secretos-y-mentiras.jpg
ORGANIZER;CN="Aula%20de%20psicodrama":MAILTO:auladepsicodrama@gmail.com
END:VEVENT
END:VCALENDAR