BEGIN:VCALENDAR
VERSION:2.0
PRODID:-//Aula de psicodrama - ECPv5.6.0//NONSGML v1.0//EN
CALSCALE:GREGORIAN
METHOD:PUBLISH
X-WR-CALNAME:Aula de psicodrama
X-ORIGINAL-URL:https://auladepsicodrama.com
X-WR-CALDESC:Eventos para Aula de psicodrama
BEGIN:VTIMEZONE
TZID:UTC
BEGIN:STANDARD
TZOFFSETFROM:+0000
TZOFFSETTO:+0000
TZNAME:UTC
DTSTART:20150101T000000
END:STANDARD
END:VTIMEZONE
BEGIN:VEVENT
DTSTART;TZID=UTC:20151119T180000
DTEND;TZID=UTC:20151119T193000
DTSTAMP:20260422T082801
CREATED:20150924T125818Z
LAST-MODIFIED:20151027T211347Z
UID:356-1447956000-1447961400@auladepsicodrama.com
SUMMARY:Charla Trasparaula: "La recuperación del grupo familiar" (Alicante)
DESCRIPTION:Por Paqui Alcaraz\nVivimos tiempos de cambio\, de reconversión de valores\, reestructuración de significados. Tiempos de incertidumbre que afectan a nuestro espacio vital familiar. Pero… ¿qué es la familia? Hay múltiples teorías\, definiciones y clasificaciones de la familia en sí.  Sin embargo\,  lo que nos interesa es la consideración de la familia como un grupo y al individuo como miembro del grupo familiar. ¿Qué paralelismo podemos encontrar en la técnica del psicodrama freudiano? Al trabajar con la familia\, no podemos separarnos de su historia de experiencia compartida\, pero también atendemos a la historia individual de cada uno de sus miembros\, sujetos inmersos en el grupo familiar. \nComenzamos este ciclo de charlas con “la Recuperación del Grupo Familiar”\,  una reflexión\, un primer encuentro para ahondar en ese inquietante espacio de la interacción familiar.
URL:https://auladepsicodrama.com/event/charla-trasparaula-la-recuperacion-del-grupo-familiar
LOCATION:Trasparaula\, C/ Pintor Lorenzo Casanova 5 - 4º D\, Alicante\, Alicante\, 03003\, España
CATEGORIES:Charlas
ATTACH;FMTTYPE=image/jpeg:https://auladepsicodrama.com/wp-content/uploads/2015/09/GetAttachment.jpg
ORGANIZER;CN="Trasparaula":MAILTO:trasparaula@trasparaula.com
END:VEVENT
END:VCALENDAR